BEGIN:VCALENDAR
VERSION:2.0
PRODID:-//Piletilevi//ICS generator//EN
METHOD:PUBLISH
BEGIN:VEVENT
TZID:Europe/Tallinn
DTSTART:20260507T174500
DTEND:20260507T193000
TRANSP:OPAQUE
SEQUENCE:0
UID:69ebd92730d31
DTSTAMP:20260424T205711Z
SUMMARY:Hokum: Raganas murgs
DESCRIPTION:Hokum: Raganas murgs Hokum Žanrs: Šausmu filma Režisors: ...
ORGANIZER:Kino Lora SIA
LOCATION:KINO LORA\, Sigulda\, Latvija\, Sigulda\, TC "Šokolāde"\, ...
CLASS:PUBLIC
BEGIN:VALARM
TRIGGER:-PT60M
ACTION:DISPLAY
DESCRIPTION:Reminder
END:VALARM
END:VEVENT
END:VCALENDAR