BEGIN:VCALENDAR
VERSION:2.0
PRODID:-//Piletilevi//ICS generator//EN
METHOD:PUBLISH
BEGIN:VEVENT
TZID:Europe/Tallinn
DTSTART:20260503T200000
DTEND:20260503T214500
TRANSP:OPAQUE
SEQUENCE:0
UID:69ebd8882b96f
DTSTAMP:20260424T205432Z
SUMMARY:Hokum: Raganas murgs
DESCRIPTION:Hokum: Raganas murgs Hokum Žanrs: Šausmu filma Režisors: ...
ORGANIZER:Kino Lora SIA
LOCATION:KINO LORA\, Sigulda\, Latvija\, Sigulda\, TC "Šokolāde"\, ...
CLASS:PUBLIC
BEGIN:VALARM
TRIGGER:-PT60M
ACTION:DISPLAY
DESCRIPTION:Reminder
END:VALARM
END:VEVENT
END:VCALENDAR