BEGIN:VCALENDAR
VERSION:2.0
PRODID:-//Piletilevi//ICS generator//EN
METHOD:PUBLISH
BEGIN:VEVENT
TZID:Europe/Tallinn
DTSTART:20260503T193000
DTEND:20260503T214000
TRANSP:OPAQUE
SEQUENCE:0
UID:69ebd85ba5c28
DTSTAMP:20260424T205347Z
SUMMARY:Maikls
DESCRIPTION:Maikls Michael Žanrs:Drāma\, Vēsturiska\, Biogrāfija\, M...
ORGANIZER:Kino Lora SIA
LOCATION:KINO LORA\, Sigulda\, Latvija\, Sigulda\, TC "Šokolāde"\, ...
CLASS:PUBLIC
BEGIN:VALARM
TRIGGER:-PT60M
ACTION:DISPLAY
DESCRIPTION:Reminder
END:VALARM
END:VEVENT
END:VCALENDAR