BEGIN:VCALENDAR
VERSION:2.0
PRODID:-//Piletilevi//ICS generator//EN
METHOD:PUBLISH
BEGIN:VEVENT
TZID:Europe/Tallinn
DTSTART:20260507T144500
DTEND:20260507T163000
TRANSP:OPAQUE
SEQUENCE:0
UID:69ebd82bf0e08
DTSTAMP:20260424T205259Z
SUMMARY:Super Mario Galaktika: Filma
DESCRIPTION:Super Mario Galaktika: Filma The Super Mario Galaxy Movie Ž...
ORGANIZER:Kino Lora SIA
LOCATION:KINO LORA\, Sigulda\, Latvija\, Sigulda\, TC "Šokolāde"\, ...
CLASS:PUBLIC
BEGIN:VALARM
TRIGGER:-PT60M
ACTION:DISPLAY
DESCRIPTION:Reminder
END:VALARM
END:VEVENT
END:VCALENDAR