BEGIN:VCALENDAR
VERSION:2.0
PRODID:-//Piletilevi//ICS generator//EN
METHOD:PUBLISH
BEGIN:VEVENT
TZID:Europe/Tallinn
DTSTART:20260508T204500
DTEND:20260508T224500
TRANSP:OPAQUE
SEQUENCE:0
UID:69ebd92833697
DTSTAMP:20260424T205712Z
SUMMARY:Mortal Kombat II
DESCRIPTION:Mortal Kombat II Žanrs: Piedzīvojumi\, Asa sižeta filma\,...
ORGANIZER:Kino Lora SIA
LOCATION:KINO LORA\, Sigulda\, Latvija\, Sigulda\, TC "Šokolāde"\, ...
CLASS:PUBLIC
BEGIN:VALARM
TRIGGER:-PT60M
ACTION:DISPLAY
DESCRIPTION:Reminder
END:VALARM
END:VEVENT
END:VCALENDAR