BEGIN:VCALENDAR
VERSION:2.0
PRODID:-//Piletilevi//ICS generator//EN
METHOD:PUBLISH
BEGIN:VEVENT
TZID:Europe/Tallinn
DTSTART:20260508T174500
DTEND:20260508T194500
TRANSP:OPAQUE
SEQUENCE:0
UID:69ebd837b3ef8
DTSTAMP:20260424T205311Z
SUMMARY:3D Billie Eilish: Hit Me Hard and Soft - The Tour Live in 3D
DESCRIPTION:3D Billie Eilish: Hit Me Hard and Soft - The Tour Live in 3D...
ORGANIZER:Kino Lora SIA
LOCATION:KINO LORA\, Sigulda\, Latvija\, Sigulda\, TC "Šokolāde"\, ...
CLASS:PUBLIC
BEGIN:VALARM
TRIGGER:-PT60M
ACTION:DISPLAY
DESCRIPTION:Reminder
END:VALARM
END:VEVENT
END:VCALENDAR