BEGIN:VCALENDAR
VERSION:2.0
PRODID:-//Piletilevi//ICS generator//EN
METHOD:PUBLISH
BEGIN:VEVENT
TZID:Europe/Tallinn
DTSTART:20380119T051407
DTEND:20380119T051407
TRANSP:OPAQUE
SEQUENCE:0
UID:69eb8dffdf389
DTSTAMP:20260424T153631Z
SUMMARY:Aurēlija Šimkus (klavieres)
DESCRIPTION:AURĒLIJA ŠIMKUS Spoža pianiste prezentēs jaunu programmu...
ORGANIZER:Artissimo Labdarības Biedrība
LOCATION:Koncertzāle ARTISSIMO\, Latvija\, Rīga\, Vaļņu iela 9
CLASS:PUBLIC
BEGIN:VALARM
TRIGGER:-PT60M
ACTION:DISPLAY
DESCRIPTION:Reminder
END:VALARM
END:VEVENT
END:VCALENDAR