BEGIN:VCALENDAR
VERSION:2.0
PRODID:-//Piletilevi//ICS generator//EN
METHOD:PUBLISH
BEGIN:VEVENT
TZID:Europe/Tallinn
DTSTART:20260503T190000
DTEND:20260503T210800
TRANSP:OPAQUE
SEQUENCE:0
UID:69ebdbcc45c34
DTSTAMP:20260424T210828Z
SUMMARY:Naudas viltotājs. Bojarska lieta
DESCRIPTION:Patiesos notikumos balstīts krimināltrilleris par vienu no...
ORGANIZER:Talsu novada pašvaldība Talsu pilsētas pārvalde
LOCATION:Kino Auseklis\, Talsi\, Latvija\, Talsi\, Kr. Valdemāra 17a
CLASS:PUBLIC
BEGIN:VALARM
TRIGGER:-PT60M
ACTION:DISPLAY
DESCRIPTION:Reminder
END:VALARM
END:VEVENT
END:VCALENDAR