BEGIN:VCALENDAR
VERSION:2.0
PRODID:-//Piletilevi//ICS generator//EN
METHOD:PUBLISH
BEGIN:VEVENT
TZID:Europe/Tallinn
DTSTART:20260503T120000
DTEND:20260503T134900
TRANSP:OPAQUE
SEQUENCE:0
UID:69ebd85a53904
DTSTAMP:20260424T205346Z
SUMMARY:Aitas izmeklētājas
DESCRIPTION:Katru vakaru gans lasa savām aitām detektīvromānu\, izli...
ORGANIZER:Talsu novada pašvaldība Talsu pilsētas pārvalde
LOCATION:Kino Auseklis\, Talsi\, Latvija\, Talsi\, Kr. Valdemāra 17a
CLASS:PUBLIC
BEGIN:VALARM
TRIGGER:-PT60M
ACTION:DISPLAY
DESCRIPTION:Reminder
END:VALARM
END:VEVENT
END:VCALENDAR