BEGIN:VCALENDAR
VERSION:2.0
PRODID:-//Piletilevi//ICS generator//EN
METHOD:PUBLISH
BEGIN:VEVENT
TZID:Europe/Tallinn
DTSTART:20260503T170000
DTEND:20260503T182900
TRANSP:OPAQUE
SEQUENCE:0
UID:69ebd85a53897
DTSTAMP:20260424T205346Z
SUMMARY:Hindas Radžabas balss
DESCRIPTION:Filma ir balstīta uz patiesa stāsta par meiteni\, kas pēc...
ORGANIZER:Talsu novada pašvaldība Talsu pilsētas pārvalde
LOCATION:Kino Auseklis\, Talsi\, Latvija\, Talsi\, Kr. Valdemāra 17a
CLASS:PUBLIC
BEGIN:VALARM
TRIGGER:-PT60M
ACTION:DISPLAY
DESCRIPTION:Reminder
END:VALARM
END:VEVENT
END:VCALENDAR