BEGIN:VCALENDAR
VERSION:2.0
PRODID:-//Piletilevi//ICS generator//EN
METHOD:PUBLISH
BEGIN:VEVENT
TZID:Europe/Tallinn
DTSTART:20260903T190000
DTEND:20260903T210000
TRANSP:OPAQUE
SEQUENCE:0
UID:69ea673a9e3fd
DTSTAMP:20260423T183850Z
SUMMARY:Sārtās buras | Алые паруса
DESCRIPTION:“SĀRTĀS BURAS” «Sārtās buras» — muzikāla izrād...
ORGANIZER:Teātris INSPIRE\, SIA
LOCATION:VEF kultūras pils\, Latvija\, Rīga\, Ropažu iela 2
CLASS:PUBLIC
BEGIN:VALARM
TRIGGER:-PT60M
ACTION:DISPLAY
DESCRIPTION:Reminder
END:VALARM
END:VEVENT
END:VCALENDAR