BEGIN:VCALENDAR
VERSION:2.0
PRODID:-//Piletilevi//ICS generator//EN
METHOD:PUBLISH
BEGIN:VEVENT
TZID:Europe/Tallinn
DTSTART:20260512T200000
DTEND:20260512T220000
TRANSP:OPAQUE
SEQUENCE:0
UID:69ea4eb1955b9
DTSTAMP:20260423T165409Z
SUMMARY:FC Riga Mājas Spēle. Riga FC - FK Auda
DESCRIPTION:     
ORGANIZER:RIGA FC\, SIA
LOCATION:Skonto stadions\, Latvija\, Rīga\, E.Melngaiļa 1a\, Rīga
CLASS:PUBLIC
BEGIN:VALARM
TRIGGER:-PT60M
ACTION:DISPLAY
DESCRIPTION:Reminder
END:VALARM
END:VEVENT
END:VCALENDAR