BEGIN:VCALENDAR
VERSION:2.0
PRODID:-//Piletilevi//ICS generator//EN
METHOD:PUBLISH
BEGIN:VEVENT
TZID:Europe/Tallinn
DTSTART:20260612T160000
DTEND:20260613T235900
TRANSP:OPAQUE
SEQUENCE:0
UID:69ea4e8d5fada
DTSTAMP:20260423T165333Z
SUMMARY:2-day ticket 12-13.06 / 2-päeva pilet 12-13.06 / Outloud 2026
DESCRIPTION:Outloud 2026 | Brīvdabas festivāls Varšavā no 2026. gada...
ORGANIZER:Zoom Box s.r.o
LOCATION:Letnia Scena Progresji\, Warsaw\, Poland\, Polija\, Saladus\...
CLASS:PUBLIC
BEGIN:VALARM
TRIGGER:-PT60M
ACTION:DISPLAY
DESCRIPTION:Reminder
END:VALARM
END:VEVENT
END:VCALENDAR