BEGIN:VCALENDAR
VERSION:2.0
PRODID:-//Piletilevi//ICS generator//EN
METHOD:PUBLISH
BEGIN:VEVENT
TZID:Europe/Tallinn
DTSTART:20260613T160000
DTEND:20260613T235900
TRANSP:OPAQUE
SEQUENCE:0
UID:69ea4eb195d75
DTSTAMP:20260423T165409Z
SUMMARY:1-day ticket 13.06 / 1-päeva pilet 13.06 / Outloud 2026
DESCRIPTION:Outloud 2026 | Brīvdabas festivāls Varšavā no 2026. gada...
ORGANIZER:Zoom Box s.r.o
LOCATION:Letnia Scena Progresji\, Warsaw\, Poland\, Polija\, Saladus\...
CLASS:PUBLIC
BEGIN:VALARM
TRIGGER:-PT60M
ACTION:DISPLAY
DESCRIPTION:Reminder
END:VALARM
END:VEVENT
END:VCALENDAR