BEGIN:VCALENDAR
VERSION:2.0
PRODID:-//Piletilevi//ICS generator//EN
METHOD:PUBLISH
BEGIN:VEVENT
TZID:Europe/Tallinn
DTSTART:20260531T190000
DTEND:20260531T230000
TRANSP:OPAQUE
SEQUENCE:0
UID:69ea137843d50
DTSTAMP:20260423T124128Z
SUMMARY:Sounds Good Vilnius | Lewis Capaldi
DESCRIPTION:2026 m. gegužės 31 d. vyksiantis Lewis Capaldi koncertas t...
ORGANIZER:L Tips Agency LT\, UAB
LOCATION:Kalnų parkas\, Lietuva\, Vilnius\, Kalnų parkas\, T. Kosci...
CLASS:PUBLIC
BEGIN:VALARM
TRIGGER:-PT60M
ACTION:DISPLAY
DESCRIPTION:Reminder
END:VALARM
END:VEVENT
END:VCALENDAR