BEGIN:VCALENDAR
VERSION:2.0
PRODID:-//Piletilevi//ICS generator//EN
METHOD:PUBLISH
BEGIN:VEVENT
TZID:Europe/Tallinn
DTSTART:20260515T183000
DTEND:20260515T200000
TRANSP:OPAQUE
SEQUENCE:0
UID:69ea4f36434cf
DTSTAMP:20260423T165622Z
SUMMARY:Roku veiklība - Maģija un Mūzika
DESCRIPTION:Iluzionists Dante Pecolli un akordeonists no Itālijas aicin...
ORGANIZER:International Show Production\, SIA
LOCATION:Mystero teātris\, Latvija\, Rīga\,\, Vienības gatve 30\,
CLASS:PUBLIC
BEGIN:VALARM
TRIGGER:-PT60M
ACTION:DISPLAY
DESCRIPTION:Reminder
END:VALARM
END:VEVENT
END:VCALENDAR