BEGIN:VCALENDAR
VERSION:2.0
PRODID:-//Piletilevi//ICS generator//EN
METHOD:PUBLISH
BEGIN:VEVENT
TZID:Europe/Tallinn
DTSTART:20260828T200000
DTEND:20260828T220000
TRANSP:OPAQUE
SEQUENCE:0
UID:69e806c96bc51
DTSTAMP:20260421T232249Z
SUMMARY:Bi-2 Kvartirņiks (akustiskais koncerts)
DESCRIPTION:Bi-2 uzstāsies koncertzālē "Dzintari" ar unikālu program...
ORGANIZER:STAGE 99 SIA
LOCATION:Dzintaru koncertzāle\, Jūrmala\, Latvija\, Jūrmala\, Tura...
CLASS:PUBLIC
BEGIN:VALARM
TRIGGER:-PT60M
ACTION:DISPLAY
DESCRIPTION:Reminder
END:VALARM
END:VEVENT
END:VCALENDAR