BEGIN:VCALENDAR
VERSION:2.0
PRODID:-//Piletilevi//ICS generator//EN
METHOD:PUBLISH
BEGIN:VEVENT
TZID:Europe/Tallinn
DTSTART:20260613T140000
DTEND:20260613T153000
TRANSP:OPAQUE
SEQUENCE:0
UID:69e8b27a75e55
DTSTAMP:20260422T113522Z
SUMMARY:Sirds izvēle
DESCRIPTION:Koncertuzvedums “Sirds izvēle” ir vizuāli un emocionā...
ORGANIZER:Dance Beat studio SIA
LOCATION:VEF kultūras pils\, Latvija\, Rīga\, Ropažu iela 2
CLASS:PUBLIC
BEGIN:VALARM
TRIGGER:-PT60M
ACTION:DISPLAY
DESCRIPTION:Reminder
END:VALARM
END:VEVENT
END:VCALENDAR