BEGIN:VCALENDAR
VERSION:2.0
PRODID:-//Piletilevi//ICS generator//EN
METHOD:PUBLISH
BEGIN:VEVENT
TZID:Europe/Tallinn
DTSTART:20260517T160000
DTEND:20260517T190000
TRANSP:OPAQUE
SEQUENCE:0
UID:69e7806108217
DTSTAMP:20260421T134921Z
SUMMARY:Art randiņš / Арт - свидание
DESCRIPTION:VIENA BIĻETE DERĪGA DIVIEM Tava skaistā diena: uzzīmēji...
ORGANIZER:Irina Chernobay
LOCATION:I am Picasso Art Studio\, Latvija\, Rīga\, Bruņinieku 36
CLASS:PUBLIC
BEGIN:VALARM
TRIGGER:-PT60M
ACTION:DISPLAY
DESCRIPTION:Reminder
END:VALARM
END:VEVENT
END:VCALENDAR