BEGIN:VCALENDAR
VERSION:2.0
PRODID:-//Piletilevi//ICS generator//EN
METHOD:PUBLISH
BEGIN:VEVENT
TZID:Europe/Tallinn
DTSTART:20260517T121500
DTEND:20260517T130000
TRANSP:OPAQUE
SEQUENCE:0
UID:69e64724e0162
DTSTAMP:20260420T153252Z
SUMMARY:'Ceļojums uz dzīvnieku karnevālu'
DESCRIPTION:“Ceļojums uz dzīvnieku karnevālu” ir muzikāla pasaka...
ORGANIZER:Victoria Gudovskaya PŠN
LOCATION:INNER LIGHT Art Gallery\, Latvija\, Jūrmala\, Omnibusa iela...
CLASS:PUBLIC
BEGIN:VALARM
TRIGGER:-PT60M
ACTION:DISPLAY
DESCRIPTION:Reminder
END:VALARM
END:VEVENT
END:VCALENDAR