BEGIN:VCALENDAR
VERSION:2.0
PRODID:-//Piletilevi//ICS generator//EN
METHOD:PUBLISH
BEGIN:VEVENT
TZID:Europe/Tallinn
DTSTART:20260517T103000
DTEND:20260517T111500
TRANSP:OPAQUE
SEQUENCE:0
UID:69e646e1c009c
DTSTAMP:20260420T153145Z
SUMMARY:'Ceļojums uz dzīvnieku karnevālu'
DESCRIPTION:“Ceļojums uz dzīvnieku karnevālu” ir muzikāla pasaka...
ORGANIZER:Victoria Gudovskaya PŠN
LOCATION:INNER LIGHT Art Gallery\, Latvija\, Jūrmala\, Omnibusa iela...
CLASS:PUBLIC
BEGIN:VALARM
TRIGGER:-PT60M
ACTION:DISPLAY
DESCRIPTION:Reminder
END:VALARM
END:VEVENT
END:VCALENDAR