BEGIN:VCALENDAR
VERSION:2.0
PRODID:-//Piletilevi//ICS generator//EN
METHOD:PUBLISH
BEGIN:VEVENT
TZID:Europe/Tallinn
DTSTART:20260429T190000
DTEND:20260429T210000
TRANSP:OPAQUE
SEQUENCE:0
UID:69e61bf5bd8eb
DTSTAMP:20260420T122837Z
SUMMARY:VALMIERA GLASS VIA pret Rīgas Zeļļi. 'Optibet' Latvijas basketbola līgas Pusfināla trešā spēle
DESCRIPTION:29.aprīlis plkst.19:00 Valmieras OC\, “Optibet” Latvija...
ORGANIZER:Biedrība 'Basketbola klubs 'Vidzeme''
LOCATION:Valmieras Olimpiskais centrs\, Latvija\, Valmiera\, Čempion...
CLASS:PUBLIC
BEGIN:VALARM
TRIGGER:-PT60M
ACTION:DISPLAY
DESCRIPTION:Reminder
END:VALARM
END:VEVENT
END:VCALENDAR