BEGIN:VCALENDAR
VERSION:2.0
PRODID:-//Piletilevi//ICS generator//EN
METHOD:PUBLISH
BEGIN:VEVENT
TZID:Europe/Tallinn
DTSTART:20260508T140000
DTEND:20260508T170000
TRANSP:OPAQUE
SEQUENCE:0
UID:69e6051a60695
DTSTAMP:20260420T105106Z
SUMMARY:Uzzīmējiet gleznu mākslinieka pavadībā / Напиши картину с помощью художника
DESCRIPTION:Uzzīmējiet gleznu mākslinieka pavadībā: - visi materiā...
ORGANIZER:Irina Chernobay
LOCATION:I am Picasso Art Studio\, Latvija\, Rīga\, Bruņinieku 36
CLASS:PUBLIC
BEGIN:VALARM
TRIGGER:-PT60M
ACTION:DISPLAY
DESCRIPTION:Reminder
END:VALARM
END:VEVENT
END:VCALENDAR